BEGIN:VCALENDAR
VERSION:2.0
PRODID:-//Bristol Society of Model and Experimental Engineers - ECPv6.15.20//NONSGML v1.0//EN
CALSCALE:GREGORIAN
METHOD:PUBLISH
X-ORIGINAL-URL:https://test.computerbooth.com
X-WR-CALDESC:Events for Bristol Society of Model and Experimental Engineers
REFRESH-INTERVAL;VALUE=DURATION:PT1H
X-Robots-Tag:noindex
X-PUBLISHED-TTL:PT1H
BEGIN:VTIMEZONE
TZID:Europe/London
BEGIN:DAYLIGHT
TZOFFSETFROM:+0000
TZOFFSETTO:+0100
TZNAME:BST
DTSTART:20250330T010000
END:DAYLIGHT
BEGIN:STANDARD
TZOFFSETFROM:+0100
TZOFFSETTO:+0000
TZNAME:GMT
DTSTART:20251026T010000
END:STANDARD
BEGIN:DAYLIGHT
TZOFFSETFROM:+0000
TZOFFSETTO:+0100
TZNAME:BST
DTSTART:20260329T010000
END:DAYLIGHT
BEGIN:STANDARD
TZOFFSETFROM:+0100
TZOFFSETTO:+0000
TZNAME:GMT
DTSTART:20261025T010000
END:STANDARD
BEGIN:DAYLIGHT
TZOFFSETFROM:+0000
TZOFFSETTO:+0100
TZNAME:BST
DTSTART:20270328T010000
END:DAYLIGHT
BEGIN:STANDARD
TZOFFSETFROM:+0100
TZOFFSETTO:+0000
TZNAME:GMT
DTSTART:20271031T010000
END:STANDARD
END:VTIMEZONE
BEGIN:VEVENT
DTSTART;TZID=Europe/London:20260906T000000
DTEND;TZID=Europe/London:20260906T000000
DTSTAMP:20260419T202727
CREATED:20260320T142325Z
LAST-MODIFIED:20260324T152950Z
UID:162-1788652800-1788652800@test.computerbooth.com
SUMMARY:BRIMLEC
DESCRIPTION:This is just some text for some more information about the event.
URL:https://test.computerbooth.com/event/brimlec/
LOCATION:Ashton Court Railway\, Ashton Court\, BS8 3PX\, United Kingdom
CATEGORIES:Public Event
ATTACH;FMTTYPE=image/jpeg:https://test.computerbooth.com/wp-content/uploads/2026/03/contact-ashton-court-railway-e1709736423514.jpg
END:VEVENT
END:VCALENDAR