BEGIN:VCALENDAR
VERSION:2.0
PRODID:-//Bristol Society of Model and Experimental Engineers - ECPv6.15.20//NONSGML v1.0//EN
CALSCALE:GREGORIAN
METHOD:PUBLISH
X-WR-CALNAME:Bristol Society of Model and Experimental Engineers
X-ORIGINAL-URL:https://test.computerbooth.com
X-WR-CALDESC:Events for Bristol Society of Model and Experimental Engineers
REFRESH-INTERVAL;VALUE=DURATION:PT1H
X-Robots-Tag:noindex
X-PUBLISHED-TTL:PT1H
BEGIN:VTIMEZONE
TZID:Europe/London
BEGIN:DAYLIGHT
TZOFFSETFROM:+0000
TZOFFSETTO:+0100
TZNAME:BST
DTSTART:20240331T010000
END:DAYLIGHT
BEGIN:STANDARD
TZOFFSETFROM:+0100
TZOFFSETTO:+0000
TZNAME:GMT
DTSTART:20241027T010000
END:STANDARD
BEGIN:DAYLIGHT
TZOFFSETFROM:+0000
TZOFFSETTO:+0100
TZNAME:BST
DTSTART:20250330T010000
END:DAYLIGHT
BEGIN:STANDARD
TZOFFSETFROM:+0100
TZOFFSETTO:+0000
TZNAME:GMT
DTSTART:20251026T010000
END:STANDARD
BEGIN:DAYLIGHT
TZOFFSETFROM:+0000
TZOFFSETTO:+0100
TZNAME:BST
DTSTART:20260329T010000
END:DAYLIGHT
BEGIN:STANDARD
TZOFFSETFROM:+0100
TZOFFSETTO:+0000
TZNAME:GMT
DTSTART:20261025T010000
END:STANDARD
BEGIN:DAYLIGHT
TZOFFSETFROM:+0000
TZOFFSETTO:+0100
TZNAME:BST
DTSTART:20270328T010000
END:DAYLIGHT
BEGIN:STANDARD
TZOFFSETFROM:+0100
TZOFFSETTO:+0000
TZNAME:GMT
DTSTART:20271031T010000
END:STANDARD
END:VTIMEZONE
BEGIN:VEVENT
DTSTART;TZID=Europe/London:20260329T000000
DTEND;TZID=Europe/London:20260329T000000
DTSTAMP:20260420T004005
CREATED:20260320T142254Z
LAST-MODIFIED:20260320T142254Z
UID:137-1774742400-1774742400@test.computerbooth.com
SUMMARY:Public Running Day
DESCRIPTION:BST
URL:https://test.computerbooth.com/event/public-running-day-20/
CATEGORIES:ACR Public Running Day
END:VEVENT
BEGIN:VEVENT
DTSTART;TZID=Europe/London:20260322T000000
DTEND;TZID=Europe/London:20260322T000000
DTSTAMP:20260420T004005
CREATED:20260320T142254Z
LAST-MODIFIED:20260320T142254Z
UID:136-1774137600-1774137600@test.computerbooth.com
SUMMARY:Public Running Day
DESCRIPTION:
URL:https://test.computerbooth.com/event/public-running-day-21/
CATEGORIES:ACR Public Running Day
END:VEVENT
BEGIN:VEVENT
DTSTART;TZID=Europe/London:20260320T000000
DTEND;TZID=Europe/London:20260320T000000
DTSTAMP:20260420T004005
CREATED:20260320T142202Z
LAST-MODIFIED:20260320T142202Z
UID:164-1773964800-1773964800@test.computerbooth.com
SUMMARY:Private Running
DESCRIPTION:David Giles
URL:https://test.computerbooth.com/event/private-running/
LOCATION:Ashton Court Railway\, Ashton Court\, BS8 3PX\, United Kingdom
END:VEVENT
BEGIN:VEVENT
DTSTART;TZID=Europe/London:20260308T000000
DTEND;TZID=Europe/London:20260308T000000
DTSTAMP:20260420T004005
CREATED:20260320T142202Z
LAST-MODIFIED:20260320T142202Z
UID:135-1772928000-1772928000@test.computerbooth.com
SUMMARY:Steam Up Day
DESCRIPTION:
URL:https://test.computerbooth.com/event/steam-up-day/
END:VEVENT
BEGIN:VEVENT
DTSTART;TZID=Europe/London:20260104T000000
DTEND;TZID=Europe/London:20260104T000000
DTSTAMP:20260420T004005
CREATED:20260320T142202Z
LAST-MODIFIED:20260324T152029Z
UID:212-1767484800-1767484800@test.computerbooth.com
SUMMARY:Gas Turbines & GT3 Loco.
DESCRIPTION:Tim Coles
URL:https://test.computerbooth.com/event/gas-turbines-gt3-loco/
LOCATION:Begbrook Social Club\, The Begbrook Social Club\, Frenchay Park Road\, Bristol\, BS16 1HY\, United Kingdom
END:VEVENT
BEGIN:VEVENT
DTSTART;TZID=Europe/London:20260101T000000
DTEND;TZID=Europe/London:20260101T000000
DTSTAMP:20260420T004005
CREATED:20260320T142202Z
LAST-MODIFIED:20260320T142202Z
UID:134-1767225600-1767225600@test.computerbooth.com
SUMMARY:First Club Day
DESCRIPTION:
URL:https://test.computerbooth.com/event/first-club-day/
END:VEVENT
BEGIN:VEVENT
DTSTART;TZID=Europe/London:20251012T000000
DTEND;TZID=Europe/London:20251012T000000
DTSTAMP:20260420T004005
CREATED:20260320T142202Z
LAST-MODIFIED:20260320T142202Z
UID:201-1760227200-1760227200@test.computerbooth.com
SUMMARY:General Chat
DESCRIPTION:Rob Speare
URL:https://test.computerbooth.com/event/general-chat/
LOCATION:Zoom
END:VEVENT
END:VCALENDAR