BEGIN:VCALENDAR
VERSION:2.0
PRODID:-//Bristol Society of Model and Experimental Engineers - ECPv6.15.20//NONSGML v1.0//EN
CALSCALE:GREGORIAN
METHOD:PUBLISH
X-WR-CALNAME:Bristol Society of Model and Experimental Engineers
X-ORIGINAL-URL:https://test.computerbooth.com
X-WR-CALDESC:Events for Bristol Society of Model and Experimental Engineers
REFRESH-INTERVAL;VALUE=DURATION:PT1H
X-Robots-Tag:noindex
X-PUBLISHED-TTL:PT1H
BEGIN:VTIMEZONE
TZID:Europe/London
BEGIN:DAYLIGHT
TZOFFSETFROM:+0000
TZOFFSETTO:+0100
TZNAME:BST
DTSTART:20250330T010000
END:DAYLIGHT
BEGIN:STANDARD
TZOFFSETFROM:+0100
TZOFFSETTO:+0000
TZNAME:GMT
DTSTART:20251026T010000
END:STANDARD
BEGIN:DAYLIGHT
TZOFFSETFROM:+0000
TZOFFSETTO:+0100
TZNAME:BST
DTSTART:20260329T010000
END:DAYLIGHT
BEGIN:STANDARD
TZOFFSETFROM:+0100
TZOFFSETTO:+0000
TZNAME:GMT
DTSTART:20261025T010000
END:STANDARD
BEGIN:DAYLIGHT
TZOFFSETFROM:+0000
TZOFFSETTO:+0100
TZNAME:BST
DTSTART:20270328T010000
END:DAYLIGHT
BEGIN:STANDARD
TZOFFSETFROM:+0100
TZOFFSETTO:+0000
TZNAME:GMT
DTSTART:20271031T010000
END:STANDARD
END:VTIMEZONE
BEGIN:VEVENT
DTSTART;TZID=Europe/London:20261025T000000
DTEND;TZID=Europe/London:20261025T000000
DTSTAMP:20260420T065418
CREATED:20260320T142254Z
LAST-MODIFIED:20260320T150102Z
UID:170-1792886400-1792886400@test.computerbooth.com
SUMMARY:Final Public running day
DESCRIPTION:Halloween – Summer time ends
URL:https://test.computerbooth.com/event/final-public-running-day/
CATEGORIES:ACR Public Running Day
END:VEVENT
BEGIN:VEVENT
DTSTART;TZID=Europe/London:20261101T000000
DTEND;TZID=Europe/London:20261101T000000
DTSTAMP:20260420T065418
CREATED:20260320T142325Z
LAST-MODIFIED:20260320T142325Z
UID:171-1793491200-1793491200@test.computerbooth.com
SUMMARY:Club Day
DESCRIPTION:
URL:https://test.computerbooth.com/event/club-day-5/
END:VEVENT
BEGIN:VEVENT
DTSTART;TZID=Europe/London:20261205T000000
DTEND;TZID=Europe/London:20261205T000000
DTSTAMP:20260420T065418
CREATED:20260320T142325Z
LAST-MODIFIED:20260320T142325Z
UID:172-1796428800-1796428800@test.computerbooth.com
SUMMARY:Members Santa Special
DESCRIPTION:
URL:https://test.computerbooth.com/event/members-santa-special/
END:VEVENT
BEGIN:VEVENT
DTSTART;TZID=Europe/London:20261206T000000
DTEND;TZID=Europe/London:20261206T000000
DTSTAMP:20260420T065418
CREATED:20260320T142324Z
LAST-MODIFIED:20260320T142324Z
UID:173-1796515200-1796515200@test.computerbooth.com
SUMMARY:Santa Special
DESCRIPTION:
URL:https://test.computerbooth.com/event/santa-special/
END:VEVENT
END:VCALENDAR