BEGIN:VCALENDAR
VERSION:2.0
PRODID:-//Bristol Society of Model and Experimental Engineers - ECPv6.15.20//NONSGML v1.0//EN
CALSCALE:GREGORIAN
METHOD:PUBLISH
X-WR-CALNAME:Bristol Society of Model and Experimental Engineers
X-ORIGINAL-URL:https://test.computerbooth.com
X-WR-CALDESC:Events for Bristol Society of Model and Experimental Engineers
REFRESH-INTERVAL;VALUE=DURATION:PT1H
X-Robots-Tag:noindex
X-PUBLISHED-TTL:PT1H
BEGIN:VTIMEZONE
TZID:Europe/London
BEGIN:DAYLIGHT
TZOFFSETFROM:+0000
TZOFFSETTO:+0100
TZNAME:BST
DTSTART:20250330T010000
END:DAYLIGHT
BEGIN:STANDARD
TZOFFSETFROM:+0100
TZOFFSETTO:+0000
TZNAME:GMT
DTSTART:20251026T010000
END:STANDARD
BEGIN:DAYLIGHT
TZOFFSETFROM:+0000
TZOFFSETTO:+0100
TZNAME:BST
DTSTART:20260329T010000
END:DAYLIGHT
BEGIN:STANDARD
TZOFFSETFROM:+0100
TZOFFSETTO:+0000
TZNAME:GMT
DTSTART:20261025T010000
END:STANDARD
BEGIN:DAYLIGHT
TZOFFSETFROM:+0000
TZOFFSETTO:+0100
TZNAME:BST
DTSTART:20270328T010000
END:DAYLIGHT
BEGIN:STANDARD
TZOFFSETFROM:+0100
TZOFFSETTO:+0000
TZNAME:GMT
DTSTART:20271031T010000
END:STANDARD
END:VTIMEZONE
BEGIN:VEVENT
DTSTART;TZID=Europe/London:20260802T000000
DTEND;TZID=Europe/London:20260802T000000
DTSTAMP:20260420T003409
CREATED:20260320T142232Z
LAST-MODIFIED:20260320T142232Z
UID:155-1785628800-1785628800@test.computerbooth.com
SUMMARY:Public Running Day
DESCRIPTION:
URL:https://test.computerbooth.com/event/public-running-day-10/
CATEGORIES:ACR Public Running Day
END:VEVENT
BEGIN:VEVENT
DTSTART;TZID=Europe/London:20260804T000000
DTEND;TZID=Europe/London:20260804T000000
DTSTAMP:20260420T003409
CREATED:20260320T142202Z
LAST-MODIFIED:20260320T142202Z
UID:213-1785801600-1785801600@test.computerbooth.com
SUMMARY:General Chat
DESCRIPTION:Rob Speare
URL:https://test.computerbooth.com/event/general-chat-2/
LOCATION:Zoom
END:VEVENT
BEGIN:VEVENT
DTSTART;TZID=Europe/London:20260823T000000
DTEND;TZID=Europe/London:20260823T000000
DTSTAMP:20260420T003409
CREATED:20260320T142325Z
LAST-MODIFIED:20260320T142325Z
UID:159-1787443200-1787443200@test.computerbooth.com
SUMMARY:Club Day
DESCRIPTION:
URL:https://test.computerbooth.com/event/club-day-7/
END:VEVENT
BEGIN:VEVENT
DTSTART;TZID=Europe/London:20260830T000000
DTEND;TZID=Europe/London:20260830T000000
DTSTAMP:20260420T003409
CREATED:20260320T142254Z
LAST-MODIFIED:20260320T142254Z
UID:160-1788048000-1788048000@test.computerbooth.com
SUMMARY:Public Running Day
DESCRIPTION:
URL:https://test.computerbooth.com/event/public-running-day-16/
CATEGORIES:ACR Public Running Day
END:VEVENT
BEGIN:VEVENT
DTSTART;TZID=Europe/London:20260831T000000
DTEND;TZID=Europe/London:20260831T000000
DTSTAMP:20260420T003409
CREATED:20260320T142254Z
LAST-MODIFIED:20260320T142254Z
UID:161-1788134400-1788134400@test.computerbooth.com
SUMMARY:Public Running Day
DESCRIPTION:Bank Holiday
URL:https://test.computerbooth.com/event/public-running-day-15/
CATEGORIES:ACR Public Running Day
END:VEVENT
END:VCALENDAR